BEGIN:VCALENDAR
VERSION:2.0
PRODID:-//eventon.com NONSGML v1.0//EN
CALSCALE:GREGORIAN
METHOD:PUBLISH
BEGIN:VEVENT
UID:69e4d371a1e05
DTSTAMP:20260419T130657Z
DTSTART:20251203T193000Z
DTEND:20251203T193000Z
LOCATION:
SUMMARY:Chile converge: El futuro nos reúne | Encuentro anual de la Industria
DESCRIPTION:Chile converge: El futuro nos reúne | Encuentro anual de la In
 dustria\nhttps://www.sofofa.cl/events/chile-converge-el-futuro-nos-reune-en
 cuentro-anual-de-la-industria/
URL:https://www.sofofa.cl/events/chile-converge-el-futuro-nos-reune-encuentro-anual-de-la-industria/
END:VEVENT
END:VCALENDAR